BEGIN:VCALENDAR
VERSION:2.0
PRODID:-//Goldfinch Wellness - ECPv6.15.17.1//NONSGML v1.0//EN
CALSCALE:GREGORIAN
METHOD:PUBLISH
X-WR-CALNAME:Goldfinch Wellness
X-ORIGINAL-URL:https://emilycooney.com
X-WR-CALDESC:Events for Goldfinch Wellness
REFRESH-INTERVAL;VALUE=DURATION:PT1H
X-Robots-Tag:noindex
X-PUBLISHED-TTL:PT1H
BEGIN:VTIMEZONE
TZID:UTC
BEGIN:STANDARD
TZOFFSETFROM:+0000
TZOFFSETTO:+0000
TZNAME:UTC
DTSTART:20200101T000000
END:STANDARD
END:VTIMEZONE
BEGIN:VTIMEZONE
TZID:Asia/Krasnoyarsk
BEGIN:STANDARD
TZOFFSETFROM:+0700
TZOFFSETTO:+0700
TZNAME:+07
DTSTART:20200101T000000
END:STANDARD
END:VTIMEZONE
BEGIN:VEVENT
DTSTART;TZID=UTC:20210222T170000
DTEND;TZID=UTC:20210222T181500
DTSTAMP:20260425T121750
CREATED:20210203T032242Z
LAST-MODIFIED:20210203T032356Z
UID:70-1614013200-1614017700@emilycooney.com
SUMMARY:Free Talks: Holding your Center
DESCRIPTION:All talks are free and open to whoever is interested. Follow the link to reserve your spot. Feel free to bring a friend! \nReserve Now \n 
URL:https://emilycooney.com/event/holding-your-center/
CATEGORIES:Free Talks
END:VEVENT
BEGIN:VEVENT
DTSTART;TZID=UTC:20210215T170000
DTEND;TZID=UTC:20210215T181500
DTSTAMP:20260425T121750
CREATED:20210203T031724Z
LAST-MODIFIED:20210203T033144Z
UID:68-1613408400-1613412900@emilycooney.com
SUMMARY:Free Talks: The Gift of Self-Care 2
DESCRIPTION:All talks are free and open to whoever is interested. Follow the link to reserve your spot. Feel free to bring a friend! \nRESERVE NOW
URL:https://emilycooney.com/event/free-talks-the-gift-of-self-care/
CATEGORIES:Free Talks
END:VEVENT
BEGIN:VEVENT
DTSTART;TZID=UTC:20210212T171500
DTEND;TZID=UTC:20210212T183000
DTSTAMP:20260425T121750
CREATED:20210203T031020Z
LAST-MODIFIED:20210203T032907Z
UID:66-1613150100-1613154600@emilycooney.com
SUMMARY:Free Talks: The Gift of Self-Care
DESCRIPTION:All talks are free and open to whoever is interested. Follow the link to reserve your spot. Feel free to bring a friend! \nRESERVE NOW
URL:https://emilycooney.com/event/gift-of-self-care/
CATEGORIES:Free Talks
END:VEVENT
BEGIN:VEVENT
DTSTART;TZID=Asia/Krasnoyarsk:20210205T171500
DTEND;TZID=Asia/Krasnoyarsk:20210205T183000
DTSTAMP:20260425T121750
CREATED:20210203T025423Z
LAST-MODIFIED:20210203T032718Z
UID:62-1612545300-1612549800@emilycooney.com
SUMMARY:Free Talks: Habit Change: Essential Strategies
DESCRIPTION:All talks are free and open to whoever is interested. Follow the link to reserve your spot. Feel free to bring a friend! \nReserve Now \n 
URL:https://emilycooney.com/event/essential-strategies/
LOCATION:NM\, United States
CATEGORIES:Free Talks
END:VEVENT
END:VCALENDAR